BEGIN:VCALENDAR
VERSION:2.0
PRODID:-//FFF - ECPv6.15.20//NONSGML v1.0//EN
CALSCALE:GREGORIAN
METHOD:PUBLISH
X-WR-CALNAME:FFF
X-ORIGINAL-URL:https://formedfamiliesforward.org
X-WR-CALDESC:Events for FFF
REFRESH-INTERVAL;VALUE=DURATION:PT1H
X-Robots-Tag:noindex
X-PUBLISHED-TTL:PT1H
BEGIN:VTIMEZONE
TZID:America/New_York
BEGIN:DAYLIGHT
TZOFFSETFROM:-0500
TZOFFSETTO:-0400
TZNAME:EDT
DTSTART:20250309T070000
END:DAYLIGHT
BEGIN:STANDARD
TZOFFSETFROM:-0400
TZOFFSETTO:-0500
TZNAME:EST
DTSTART:20251102T060000
END:STANDARD
BEGIN:DAYLIGHT
TZOFFSETFROM:-0500
TZOFFSETTO:-0400
TZNAME:EDT
DTSTART:20260308T070000
END:DAYLIGHT
BEGIN:STANDARD
TZOFFSETFROM:-0400
TZOFFSETTO:-0500
TZNAME:EST
DTSTART:20261101T060000
END:STANDARD
BEGIN:DAYLIGHT
TZOFFSETFROM:-0500
TZOFFSETTO:-0400
TZNAME:EDT
DTSTART:20270314T070000
END:DAYLIGHT
BEGIN:STANDARD
TZOFFSETFROM:-0400
TZOFFSETTO:-0500
TZNAME:EST
DTSTART:20271107T060000
END:STANDARD
END:VTIMEZONE
BEGIN:VEVENT
DTSTART;TZID=America/New_York:20260520T190000
DTEND;TZID=America/New_York:20260520T203000
DTSTAMP:20260422T094338
CREATED:20251110T144636Z
LAST-MODIFIED:20251110T160522Z
UID:10002562-1779303600-1779309000@formedfamiliesforward.org
SUMMARY:Formed Families Together IN PERSON support group 25 - 26
DESCRIPTION:For adoptive and foster parents and kinship caregivers\, these monthly IN PERSON support groups are hosted by FFF. Formed Families Together support groups are facilitated by trained peer parents/caregivers who have lived experience with foster care\, adoption and kinship care. The in-person group meets the third Wednesday of each month from 7 – 8:30 PM. \nInterested participants can register any time; the groups have open enrollment but all participants must be registered through our link.
URL:https://formedfamiliesforward.org/event/formed-families-together-in-person-support-group-25-26-2/2026-05-20/
LOCATION:Formed Families Forward Office\, 10304 Eaton Place\, Suite 100\, Fairfax\, VA\, 22030\, United States
CATEGORIES:Formed Families Forward event
ATTACH;FMTTYPE=image/png:https://formedfamiliesforward.org/wp-content/uploads/2021/12/FFT-parent-PEER-SUPPORT-LOGO.png
END:VEVENT
BEGIN:VEVENT
DTSTART;TZID=America/New_York:20260617T190000
DTEND;TZID=America/New_York:20260617T203000
DTSTAMP:20260422T094338
CREATED:20251110T144636Z
LAST-MODIFIED:20251110T160522Z
UID:10002563-1781722800-1781728200@formedfamiliesforward.org
SUMMARY:Formed Families Together IN PERSON support group 25 - 26
DESCRIPTION:For adoptive and foster parents and kinship caregivers\, these monthly IN PERSON support groups are hosted by FFF. Formed Families Together support groups are facilitated by trained peer parents/caregivers who have lived experience with foster care\, adoption and kinship care. The in-person group meets the third Wednesday of each month from 7 – 8:30 PM. \nInterested participants can register any time; the groups have open enrollment but all participants must be registered through our link.
URL:https://formedfamiliesforward.org/event/formed-families-together-in-person-support-group-25-26-2/2026-06-17/
LOCATION:Formed Families Forward Office\, 10304 Eaton Place\, Suite 100\, Fairfax\, VA\, 22030\, United States
CATEGORIES:Formed Families Forward event
ATTACH;FMTTYPE=image/png:https://formedfamiliesforward.org/wp-content/uploads/2021/12/FFT-parent-PEER-SUPPORT-LOGO.png
END:VEVENT
END:VCALENDAR