BEGIN:VCALENDAR
VERSION:2.0
PRODID:-//FFF - ECPv6.15.20//NONSGML v1.0//EN
CALSCALE:GREGORIAN
METHOD:PUBLISH
X-WR-CALNAME:FFF
X-ORIGINAL-URL:https://formedfamiliesforward.org
X-WR-CALDESC:Events for FFF
REFRESH-INTERVAL;VALUE=DURATION:PT1H
X-Robots-Tag:noindex
X-PUBLISHED-TTL:PT1H
BEGIN:VTIMEZONE
TZID:America/New_York
BEGIN:DAYLIGHT
TZOFFSETFROM:-0500
TZOFFSETTO:-0400
TZNAME:EDT
DTSTART:20230312T070000
END:DAYLIGHT
BEGIN:STANDARD
TZOFFSETFROM:-0400
TZOFFSETTO:-0500
TZNAME:EST
DTSTART:20231105T060000
END:STANDARD
BEGIN:DAYLIGHT
TZOFFSETFROM:-0500
TZOFFSETTO:-0400
TZNAME:EDT
DTSTART:20240310T070000
END:DAYLIGHT
BEGIN:STANDARD
TZOFFSETFROM:-0400
TZOFFSETTO:-0500
TZNAME:EST
DTSTART:20241103T060000
END:STANDARD
BEGIN:DAYLIGHT
TZOFFSETFROM:-0500
TZOFFSETTO:-0400
TZNAME:EDT
DTSTART:20250309T070000
END:DAYLIGHT
BEGIN:STANDARD
TZOFFSETFROM:-0400
TZOFFSETTO:-0500
TZNAME:EST
DTSTART:20251102T060000
END:STANDARD
END:VTIMEZONE
BEGIN:VEVENT
DTSTART;TZID=America/New_York:20241112T183000
DTEND;TZID=America/New_York:20241112T200000
DTSTAMP:20260425T132937
CREATED:20240613T161710Z
LAST-MODIFIED:20240613T162554Z
UID:10002274-1731436200-1731441600@formedfamiliesforward.org
SUMMARY:Stronger Together Youth and Young Adult Peer Support Group - fall 2024
DESCRIPTION:Stronger Together is a psychoeducational and peer support group for teens and young adults (age 14 – 22) that will introduce tools that can be used to navigate everyday challenges. Professional clinicians facilitate the 8 weekly sessions. Skills include interpersonal effectiveness\, conflict resolution\, self-determination and self-efficacy. The group emphasizes positive peer supports as a context for strengths-based growth. A light dinner will be served each evening. Regular weekly attendance is expected. \nThe group will meet in person on the following Tuesdays from 6:30-8:00 pm: \nOct. 1\, 8\, 15\, 22\, 29\, and November 5\, 12\, 19\, 2024 \nThe group will focus on strengthening social engagement through conversation\, and activities. The group will feature a topic each week related to issues teens and young adults often face such as mental health challenges\, peer interactions\, healthy relationships and boundaries\, as well as other topics chosen by the group. The group will offer participants a chance to practice social skills\, learn from one another\, and get feedback from peers and group leaders. Group leaders will foster an environment of acceptance and members will share as much as little as they like. \nFall 2024 Stronger Together lead facilitator Karen Chaudhry\, LCSW has over 20 years of experience working with children and families. She has led many groups and provided individual therapy for children\, teens and adults. Karen works in the child welfare field and some of her expertise includes trauma\, foster care\, adoptive and kinship families. In addition\, Karen has experience working with children and teens who are on the autism spectrum or have ADHD\, depression\, and anxiety. \nDownload FLYER HERE.
URL:https://formedfamiliesforward.org/event/stronger-together-youth-and-young-adult-peer-support-group-fall-2024/2024-11-12/
LOCATION:Formed Families Forward Office\, 10304 Eaton Place\, Suite 100\, Fairfax\, VA\, 22030\, United States
CATEGORIES:Formed Families Forward event,Youth and Young Adults
ATTACH;FMTTYPE=image/png:https://formedfamiliesforward.org/wp-content/uploads/2020/10/Stronger-Together-Graphic-sm.png
END:VEVENT
BEGIN:VEVENT
DTSTART;TZID=America/New_York:20241105T183000
DTEND;TZID=America/New_York:20241105T200000
DTSTAMP:20260425T132937
CREATED:20240613T161710Z
LAST-MODIFIED:20240613T162554Z
UID:10002273-1730831400-1730836800@formedfamiliesforward.org
SUMMARY:Stronger Together Youth and Young Adult Peer Support Group - fall 2024
DESCRIPTION:Stronger Together is a psychoeducational and peer support group for teens and young adults (age 14 – 22) that will introduce tools that can be used to navigate everyday challenges. Professional clinicians facilitate the 8 weekly sessions. Skills include interpersonal effectiveness\, conflict resolution\, self-determination and self-efficacy. The group emphasizes positive peer supports as a context for strengths-based growth. A light dinner will be served each evening. Regular weekly attendance is expected. \nThe group will meet in person on the following Tuesdays from 6:30-8:00 pm: \nOct. 1\, 8\, 15\, 22\, 29\, and November 5\, 12\, 19\, 2024 \nThe group will focus on strengthening social engagement through conversation\, and activities. The group will feature a topic each week related to issues teens and young adults often face such as mental health challenges\, peer interactions\, healthy relationships and boundaries\, as well as other topics chosen by the group. The group will offer participants a chance to practice social skills\, learn from one another\, and get feedback from peers and group leaders. Group leaders will foster an environment of acceptance and members will share as much as little as they like. \nFall 2024 Stronger Together lead facilitator Karen Chaudhry\, LCSW has over 20 years of experience working with children and families. She has led many groups and provided individual therapy for children\, teens and adults. Karen works in the child welfare field and some of her expertise includes trauma\, foster care\, adoptive and kinship families. In addition\, Karen has experience working with children and teens who are on the autism spectrum or have ADHD\, depression\, and anxiety. \nDownload FLYER HERE.
URL:https://formedfamiliesforward.org/event/stronger-together-youth-and-young-adult-peer-support-group-fall-2024/2024-11-05/
LOCATION:Formed Families Forward Office\, 10304 Eaton Place\, Suite 100\, Fairfax\, VA\, 22030\, United States
CATEGORIES:Formed Families Forward event,Youth and Young Adults
ATTACH;FMTTYPE=image/png:https://formedfamiliesforward.org/wp-content/uploads/2020/10/Stronger-Together-Graphic-sm.png
END:VEVENT
BEGIN:VEVENT
DTSTART;TZID=America/New_York:20241029T183000
DTEND;TZID=America/New_York:20241029T200000
DTSTAMP:20260425T132937
CREATED:20240613T161710Z
LAST-MODIFIED:20240613T162554Z
UID:10002272-1730226600-1730232000@formedfamiliesforward.org
SUMMARY:Stronger Together Youth and Young Adult Peer Support Group - fall 2024
DESCRIPTION:Stronger Together is a psychoeducational and peer support group for teens and young adults (age 14 – 22) that will introduce tools that can be used to navigate everyday challenges. Professional clinicians facilitate the 8 weekly sessions. Skills include interpersonal effectiveness\, conflict resolution\, self-determination and self-efficacy. The group emphasizes positive peer supports as a context for strengths-based growth. A light dinner will be served each evening. Regular weekly attendance is expected. \nThe group will meet in person on the following Tuesdays from 6:30-8:00 pm: \nOct. 1\, 8\, 15\, 22\, 29\, and November 5\, 12\, 19\, 2024 \nThe group will focus on strengthening social engagement through conversation\, and activities. The group will feature a topic each week related to issues teens and young adults often face such as mental health challenges\, peer interactions\, healthy relationships and boundaries\, as well as other topics chosen by the group. The group will offer participants a chance to practice social skills\, learn from one another\, and get feedback from peers and group leaders. Group leaders will foster an environment of acceptance and members will share as much as little as they like. \nFall 2024 Stronger Together lead facilitator Karen Chaudhry\, LCSW has over 20 years of experience working with children and families. She has led many groups and provided individual therapy for children\, teens and adults. Karen works in the child welfare field and some of her expertise includes trauma\, foster care\, adoptive and kinship families. In addition\, Karen has experience working with children and teens who are on the autism spectrum or have ADHD\, depression\, and anxiety. \nDownload FLYER HERE.
URL:https://formedfamiliesforward.org/event/stronger-together-youth-and-young-adult-peer-support-group-fall-2024/2024-10-29/
LOCATION:Formed Families Forward Office\, 10304 Eaton Place\, Suite 100\, Fairfax\, VA\, 22030\, United States
CATEGORIES:Formed Families Forward event,Youth and Young Adults
ATTACH;FMTTYPE=image/png:https://formedfamiliesforward.org/wp-content/uploads/2020/10/Stronger-Together-Graphic-sm.png
END:VEVENT
BEGIN:VEVENT
DTSTART;TZID=America/New_York:20241022T183000
DTEND;TZID=America/New_York:20241022T200000
DTSTAMP:20260425T132937
CREATED:20240613T161710Z
LAST-MODIFIED:20240613T162554Z
UID:10002271-1729621800-1729627200@formedfamiliesforward.org
SUMMARY:Stronger Together Youth and Young Adult Peer Support Group - fall 2024
DESCRIPTION:Stronger Together is a psychoeducational and peer support group for teens and young adults (age 14 – 22) that will introduce tools that can be used to navigate everyday challenges. Professional clinicians facilitate the 8 weekly sessions. Skills include interpersonal effectiveness\, conflict resolution\, self-determination and self-efficacy. The group emphasizes positive peer supports as a context for strengths-based growth. A light dinner will be served each evening. Regular weekly attendance is expected. \nThe group will meet in person on the following Tuesdays from 6:30-8:00 pm: \nOct. 1\, 8\, 15\, 22\, 29\, and November 5\, 12\, 19\, 2024 \nThe group will focus on strengthening social engagement through conversation\, and activities. The group will feature a topic each week related to issues teens and young adults often face such as mental health challenges\, peer interactions\, healthy relationships and boundaries\, as well as other topics chosen by the group. The group will offer participants a chance to practice social skills\, learn from one another\, and get feedback from peers and group leaders. Group leaders will foster an environment of acceptance and members will share as much as little as they like. \nFall 2024 Stronger Together lead facilitator Karen Chaudhry\, LCSW has over 20 years of experience working with children and families. She has led many groups and provided individual therapy for children\, teens and adults. Karen works in the child welfare field and some of her expertise includes trauma\, foster care\, adoptive and kinship families. In addition\, Karen has experience working with children and teens who are on the autism spectrum or have ADHD\, depression\, and anxiety. \nDownload FLYER HERE.
URL:https://formedfamiliesforward.org/event/stronger-together-youth-and-young-adult-peer-support-group-fall-2024/2024-10-22/
LOCATION:Formed Families Forward Office\, 10304 Eaton Place\, Suite 100\, Fairfax\, VA\, 22030\, United States
CATEGORIES:Formed Families Forward event,Youth and Young Adults
ATTACH;FMTTYPE=image/png:https://formedfamiliesforward.org/wp-content/uploads/2020/10/Stronger-Together-Graphic-sm.png
END:VEVENT
BEGIN:VEVENT
DTSTART;TZID=America/New_York:20241015T183000
DTEND;TZID=America/New_York:20241015T200000
DTSTAMP:20260425T132937
CREATED:20240613T161710Z
LAST-MODIFIED:20240613T162554Z
UID:10002270-1729017000-1729022400@formedfamiliesforward.org
SUMMARY:Stronger Together Youth and Young Adult Peer Support Group - fall 2024
DESCRIPTION:Stronger Together is a psychoeducational and peer support group for teens and young adults (age 14 – 22) that will introduce tools that can be used to navigate everyday challenges. Professional clinicians facilitate the 8 weekly sessions. Skills include interpersonal effectiveness\, conflict resolution\, self-determination and self-efficacy. The group emphasizes positive peer supports as a context for strengths-based growth. A light dinner will be served each evening. Regular weekly attendance is expected. \nThe group will meet in person on the following Tuesdays from 6:30-8:00 pm: \nOct. 1\, 8\, 15\, 22\, 29\, and November 5\, 12\, 19\, 2024 \nThe group will focus on strengthening social engagement through conversation\, and activities. The group will feature a topic each week related to issues teens and young adults often face such as mental health challenges\, peer interactions\, healthy relationships and boundaries\, as well as other topics chosen by the group. The group will offer participants a chance to practice social skills\, learn from one another\, and get feedback from peers and group leaders. Group leaders will foster an environment of acceptance and members will share as much as little as they like. \nFall 2024 Stronger Together lead facilitator Karen Chaudhry\, LCSW has over 20 years of experience working with children and families. She has led many groups and provided individual therapy for children\, teens and adults. Karen works in the child welfare field and some of her expertise includes trauma\, foster care\, adoptive and kinship families. In addition\, Karen has experience working with children and teens who are on the autism spectrum or have ADHD\, depression\, and anxiety. \nDownload FLYER HERE.
URL:https://formedfamiliesforward.org/event/stronger-together-youth-and-young-adult-peer-support-group-fall-2024/2024-10-15/
LOCATION:Formed Families Forward Office\, 10304 Eaton Place\, Suite 100\, Fairfax\, VA\, 22030\, United States
CATEGORIES:Formed Families Forward event,Youth and Young Adults
ATTACH;FMTTYPE=image/png:https://formedfamiliesforward.org/wp-content/uploads/2020/10/Stronger-Together-Graphic-sm.png
END:VEVENT
BEGIN:VEVENT
DTSTART;TZID=America/New_York:20241008T183000
DTEND;TZID=America/New_York:20241008T200000
DTSTAMP:20260425T132937
CREATED:20240613T161710Z
LAST-MODIFIED:20240613T162554Z
UID:10002269-1728412200-1728417600@formedfamiliesforward.org
SUMMARY:Stronger Together Youth and Young Adult Peer Support Group - fall 2024
DESCRIPTION:Stronger Together is a psychoeducational and peer support group for teens and young adults (age 14 – 22) that will introduce tools that can be used to navigate everyday challenges. Professional clinicians facilitate the 8 weekly sessions. Skills include interpersonal effectiveness\, conflict resolution\, self-determination and self-efficacy. The group emphasizes positive peer supports as a context for strengths-based growth. A light dinner will be served each evening. Regular weekly attendance is expected. \nThe group will meet in person on the following Tuesdays from 6:30-8:00 pm: \nOct. 1\, 8\, 15\, 22\, 29\, and November 5\, 12\, 19\, 2024 \nThe group will focus on strengthening social engagement through conversation\, and activities. The group will feature a topic each week related to issues teens and young adults often face such as mental health challenges\, peer interactions\, healthy relationships and boundaries\, as well as other topics chosen by the group. The group will offer participants a chance to practice social skills\, learn from one another\, and get feedback from peers and group leaders. Group leaders will foster an environment of acceptance and members will share as much as little as they like. \nFall 2024 Stronger Together lead facilitator Karen Chaudhry\, LCSW has over 20 years of experience working with children and families. She has led many groups and provided individual therapy for children\, teens and adults. Karen works in the child welfare field and some of her expertise includes trauma\, foster care\, adoptive and kinship families. In addition\, Karen has experience working with children and teens who are on the autism spectrum or have ADHD\, depression\, and anxiety. \nDownload FLYER HERE.
URL:https://formedfamiliesforward.org/event/stronger-together-youth-and-young-adult-peer-support-group-fall-2024/2024-10-08/
LOCATION:Formed Families Forward Office\, 10304 Eaton Place\, Suite 100\, Fairfax\, VA\, 22030\, United States
CATEGORIES:Formed Families Forward event,Youth and Young Adults
ATTACH;FMTTYPE=image/png:https://formedfamiliesforward.org/wp-content/uploads/2020/10/Stronger-Together-Graphic-sm.png
END:VEVENT
BEGIN:VEVENT
DTSTART;TZID=America/New_York:20241001T183000
DTEND;TZID=America/New_York:20241001T200000
DTSTAMP:20260425T132937
CREATED:20240613T161710Z
LAST-MODIFIED:20240613T162554Z
UID:10002268-1727807400-1727812800@formedfamiliesforward.org
SUMMARY:Stronger Together Youth and Young Adult Peer Support Group - fall 2024
DESCRIPTION:Stronger Together is a psychoeducational and peer support group for teens and young adults (age 14 – 22) that will introduce tools that can be used to navigate everyday challenges. Professional clinicians facilitate the 8 weekly sessions. Skills include interpersonal effectiveness\, conflict resolution\, self-determination and self-efficacy. The group emphasizes positive peer supports as a context for strengths-based growth. A light dinner will be served each evening. Regular weekly attendance is expected. \nThe group will meet in person on the following Tuesdays from 6:30-8:00 pm: \nOct. 1\, 8\, 15\, 22\, 29\, and November 5\, 12\, 19\, 2024 \nThe group will focus on strengthening social engagement through conversation\, and activities. The group will feature a topic each week related to issues teens and young adults often face such as mental health challenges\, peer interactions\, healthy relationships and boundaries\, as well as other topics chosen by the group. The group will offer participants a chance to practice social skills\, learn from one another\, and get feedback from peers and group leaders. Group leaders will foster an environment of acceptance and members will share as much as little as they like. \nFall 2024 Stronger Together lead facilitator Karen Chaudhry\, LCSW has over 20 years of experience working with children and families. She has led many groups and provided individual therapy for children\, teens and adults. Karen works in the child welfare field and some of her expertise includes trauma\, foster care\, adoptive and kinship families. In addition\, Karen has experience working with children and teens who are on the autism spectrum or have ADHD\, depression\, and anxiety. \nDownload FLYER HERE.
URL:https://formedfamiliesforward.org/event/stronger-together-youth-and-young-adult-peer-support-group-fall-2024/2024-10-01/
LOCATION:Formed Families Forward Office\, 10304 Eaton Place\, Suite 100\, Fairfax\, VA\, 22030\, United States
CATEGORIES:Formed Families Forward event,Youth and Young Adults
ATTACH;FMTTYPE=image/png:https://formedfamiliesforward.org/wp-content/uploads/2020/10/Stronger-Together-Graphic-sm.png
END:VEVENT
BEGIN:VEVENT
DTSTART;TZID=America/New_York:20240618T093000
DTEND;TZID=America/New_York:20240618T150000
DTSTAMP:20260425T132937
CREATED:20240325T182644Z
LAST-MODIFIED:20240403T161122Z
UID:10001876-1718703000-1718722800@formedfamiliesforward.org
SUMMARY:Bridge to the Future Youth and Young Adult Workshop
DESCRIPTION:Calling all youth and young adults 14-24 years of age! Formed Families Forward (FFF) and the A Life Like Yours (ALLY) Center at The Arc of Loudoun are hosting a FREE one-day Bridge to the Future Workshop for youth and young adults who have disabilities or other specialized needs. \nWhen: Tuesday\, June 18\, 2024 from 9:30 AM to 3 PM \nWhere: Paxton Campus\, 601 Catoctin Circle NE\, Leesburg\, VA 20176 \nThrough fun and engaging activities\, the youth and young adult workshop participants will: \n\nInteract and connect with other youth and young adults their age through art\, music\, and movement activities.\nIdentify their strengths and interests and complete a needs assessment to assist in developing at least one short and one long-term goal and draft a plan of action.\nExplore career training and post-high school education opportunities that match their goals and interests.\nPractice self-advocacy and strengthen social and job-readiness skills to improve confidence and fluency to gain the position they seek.\n\nA box lunch will be provided. All youth participants who complete the full-day workshop will receive an Amazon gift card. \nDownload EVENT FLYER HERE.
URL:https://formedfamiliesforward.org/event/bridge-to-the-future-youth-and-young-adult-workshop/
LOCATION:ALLY Center\,\, 601 Catoctin Circle\, NE\, Leesburg\, VA\, 20176\, United States
CATEGORIES:Formed Families Forward event,Training,Youth and Young Adults
ATTACH;FMTTYPE=image/png:https://formedfamiliesforward.org/wp-content/uploads/2024/03/Bridge-to-Future-youth-workshop-June-2024-fnl-flyer-sm.png
END:VEVENT
END:VCALENDAR