BEGIN:VCALENDAR
VERSION:2.0
PRODID:-//FFF - ECPv6.15.20//NONSGML v1.0//EN
CALSCALE:GREGORIAN
METHOD:PUBLISH
X-ORIGINAL-URL:https://formedfamiliesforward.org
X-WR-CALDESC:Events for FFF
REFRESH-INTERVAL;VALUE=DURATION:PT1H
X-Robots-Tag:noindex
X-PUBLISHED-TTL:PT1H
BEGIN:VTIMEZONE
TZID:America/New_York
BEGIN:DAYLIGHT
TZOFFSETFROM:-0500
TZOFFSETTO:-0400
TZNAME:EDT
DTSTART:20250309T070000
END:DAYLIGHT
BEGIN:STANDARD
TZOFFSETFROM:-0400
TZOFFSETTO:-0500
TZNAME:EST
DTSTART:20251102T060000
END:STANDARD
BEGIN:DAYLIGHT
TZOFFSETFROM:-0500
TZOFFSETTO:-0400
TZNAME:EDT
DTSTART:20260308T070000
END:DAYLIGHT
BEGIN:STANDARD
TZOFFSETFROM:-0400
TZOFFSETTO:-0500
TZNAME:EST
DTSTART:20261101T060000
END:STANDARD
BEGIN:DAYLIGHT
TZOFFSETFROM:-0500
TZOFFSETTO:-0400
TZNAME:EDT
DTSTART:20270314T070000
END:DAYLIGHT
BEGIN:STANDARD
TZOFFSETFROM:-0400
TZOFFSETTO:-0500
TZNAME:EST
DTSTART:20271107T060000
END:STANDARD
END:VTIMEZONE
BEGIN:VEVENT
DTSTART;VALUE=DATE:20260215
DTEND;VALUE=DATE:20260701
DTSTAMP:20260420T080408
CREATED:20260202T183950Z
LAST-MODIFIED:20260202T184046Z
UID:10002902-1771113600-1782863999@formedfamiliesforward.org
SUMMARY:Learning Your Way Online course open
DESCRIPTION:The Winter/Spring 2026 window to access Learning Your Way is open. LYW offers interactive\, self-paced online courses from Formed Families Forward on a number of critical topics.  Learn more at https://formedfamiliesforward.org/services/learning-your-way-online-courses/.
URL:https://formedfamiliesforward.org/event/learning-your-way-online-course-open/
CATEGORIES:Formed Families Forward event,Kinship,Training
ATTACH;FMTTYPE=image/png:https://formedfamiliesforward.org/wp-content/uploads/2023/11/LYW-Icon-Green-High-Quality-PNG-book-screen-learning-your-way-icon.png
END:VEVENT
BEGIN:VEVENT
DTSTART;TZID=America/New_York:20260513T190000
DTEND;TZID=America/New_York:20260513T200000
DTSTAMP:20260420T080408
CREATED:20260331T195826Z
LAST-MODIFIED:20260414T010237Z
UID:10002919-1778698800-1778702400@formedfamiliesforward.org
SUMMARY:Occupational Therapy: How focusing on Sensory and Motor Integration Can Help Your Child
DESCRIPTION:Hosted by FFF live on May 13\, this webinar is presented by Occupational Therapist Christie Pride. \nThis seminar will focus on helping families understand the primary sensory systems and how foundational organization of these systems helps children thrive in social and academic environments. We will share information on common challenges kids face when their sensory receptors are not working as they should and provide home activity suggestions that can help support and develop these systems so that your child can experience successful engagement in all areas of life.
URL:https://formedfamiliesforward.org/event/occupational-therapy-how-focusing-on-sensory-and-motor-integration-can-help-your-child/
CATEGORIES:Formed Families Forward event,Training
ATTACH;FMTTYPE=image/png:https://formedfamiliesforward.org/wp-content/uploads/2026/03/OT-webinar-May-2026.png
END:VEVENT
END:VCALENDAR