BEGIN:VCALENDAR
VERSION:2.0
PRODID:-//FFF - ECPv6.15.20//NONSGML v1.0//EN
CALSCALE:GREGORIAN
METHOD:PUBLISH
X-WR-CALNAME:FFF
X-ORIGINAL-URL:https://formedfamiliesforward.org
X-WR-CALDESC:Events for FFF
REFRESH-INTERVAL;VALUE=DURATION:PT1H
X-Robots-Tag:noindex
X-PUBLISHED-TTL:PT1H
BEGIN:VTIMEZONE
TZID:America/New_York
BEGIN:DAYLIGHT
TZOFFSETFROM:-0500
TZOFFSETTO:-0400
TZNAME:EDT
DTSTART:20240310T070000
END:DAYLIGHT
BEGIN:STANDARD
TZOFFSETFROM:-0400
TZOFFSETTO:-0500
TZNAME:EST
DTSTART:20241103T060000
END:STANDARD
BEGIN:DAYLIGHT
TZOFFSETFROM:-0500
TZOFFSETTO:-0400
TZNAME:EDT
DTSTART:20250309T070000
END:DAYLIGHT
BEGIN:STANDARD
TZOFFSETFROM:-0400
TZOFFSETTO:-0500
TZNAME:EST
DTSTART:20251102T060000
END:STANDARD
BEGIN:DAYLIGHT
TZOFFSETFROM:-0500
TZOFFSETTO:-0400
TZNAME:EDT
DTSTART:20260308T070000
END:DAYLIGHT
BEGIN:STANDARD
TZOFFSETFROM:-0400
TZOFFSETTO:-0500
TZNAME:EST
DTSTART:20261101T060000
END:STANDARD
END:VTIMEZONE
BEGIN:VEVENT
DTSTART;TZID=America/New_York:20250617T190000
DTEND;TZID=America/New_York:20250617T210000
DTSTAMP:20260419T150509
CREATED:20250412T182411Z
LAST-MODIFIED:20250618T001329Z
UID:10002473-1750186800-1750194000@formedfamiliesforward.org
SUMMARY:Raising Kids with Big Baffling Behavior virtual summer course
DESCRIPTION:Join FFF this summer for a Raising Kids with Big Baffling Behavior virtual course\, in real time on Tuesday evenings. \nThis 8-session Raising Kids with Big Baffling Behavior course is offered weekly on Tuesdays\, virtually from 7 – 9 PM\, starting June 17. The course is delivered by FFF’s Melissa Lebling\, who is a certified Raising Kids with Big Baffling Behavior course facilitator. All 12 modules will be included in the 8 sessions. The registration fee for the course\, inclusive of materials and access to the live sessions\, is $250. \nRegister using link below. \n 
URL:https://formedfamiliesforward.org/event/raising-kids-with-big-baffling-behavior-virtual-summer-course/2025-06-17/
CATEGORIES:Formed Families Forward event,Kinship,Training
ATTACH;FMTTYPE=image/png:https://formedfamiliesforward.org/wp-content/uploads/2024/08/BBB-promo-image.png
END:VEVENT
BEGIN:VEVENT
DTSTART;TZID=America/New_York:20250624T190000
DTEND;TZID=America/New_York:20250624T210000
DTSTAMP:20260419T150509
CREATED:20250412T182411Z
LAST-MODIFIED:20250618T001329Z
UID:10002474-1750791600-1750798800@formedfamiliesforward.org
SUMMARY:Raising Kids with Big Baffling Behavior virtual summer course
DESCRIPTION:Join FFF this summer for a Raising Kids with Big Baffling Behavior virtual course\, in real time on Tuesday evenings. \nThis 8-session Raising Kids with Big Baffling Behavior course is offered weekly on Tuesdays\, virtually from 7 – 9 PM\, starting June 17. The course is delivered by FFF’s Melissa Lebling\, who is a certified Raising Kids with Big Baffling Behavior course facilitator. All 12 modules will be included in the 8 sessions. The registration fee for the course\, inclusive of materials and access to the live sessions\, is $250. \nRegister using link below. \n 
URL:https://formedfamiliesforward.org/event/raising-kids-with-big-baffling-behavior-virtual-summer-course/2025-06-24/
CATEGORIES:Formed Families Forward event,Kinship,Training
ATTACH;FMTTYPE=image/png:https://formedfamiliesforward.org/wp-content/uploads/2024/08/BBB-promo-image.png
END:VEVENT
END:VCALENDAR