BEGIN:VCALENDAR
VERSION:2.0
PRODID:-//FFF - ECPv6.15.20//NONSGML v1.0//EN
CALSCALE:GREGORIAN
METHOD:PUBLISH
X-WR-CALNAME:FFF
X-ORIGINAL-URL:https://formedfamiliesforward.org
X-WR-CALDESC:Events for FFF
REFRESH-INTERVAL;VALUE=DURATION:PT1H
X-Robots-Tag:noindex
X-PUBLISHED-TTL:PT1H
BEGIN:VTIMEZONE
TZID:America/New_York
BEGIN:DAYLIGHT
TZOFFSETFROM:-0500
TZOFFSETTO:-0400
TZNAME:EDT
DTSTART:20240310T070000
END:DAYLIGHT
BEGIN:STANDARD
TZOFFSETFROM:-0400
TZOFFSETTO:-0500
TZNAME:EST
DTSTART:20241103T060000
END:STANDARD
BEGIN:DAYLIGHT
TZOFFSETFROM:-0500
TZOFFSETTO:-0400
TZNAME:EDT
DTSTART:20250309T070000
END:DAYLIGHT
BEGIN:STANDARD
TZOFFSETFROM:-0400
TZOFFSETTO:-0500
TZNAME:EST
DTSTART:20251102T060000
END:STANDARD
BEGIN:DAYLIGHT
TZOFFSETFROM:-0500
TZOFFSETTO:-0400
TZNAME:EDT
DTSTART:20260308T070000
END:DAYLIGHT
BEGIN:STANDARD
TZOFFSETFROM:-0400
TZOFFSETTO:-0500
TZNAME:EST
DTSTART:20261101T060000
END:STANDARD
END:VTIMEZONE
BEGIN:VEVENT
DTSTART;TZID=America/New_York:20251115T090000
DTEND;TZID=America/New_York:20251115T150000
DTSTAMP:20260423T073328
CREATED:20250726T022940Z
LAST-MODIFIED:20250922T150433Z
UID:10002575-1763197200-1763218800@formedfamiliesforward.org
SUMMARY:Positive Parenting class\, in Spanish
DESCRIPTION:Hosted by FFF\, this one day class is delivered in person and fully in Spanish. \nThank you to Potomac Health Foundation for support of the Positive Parenting in PW classes. \nCrianza Positiva en Prince William utiliza un programa comprobado de capacitación para padres (Positive Solutions for Families) que ayuda a las familias a apoyar las habilidades sociales y emocionales de los niños\, comprender las conductas problemáticas y utilizar estrategias positivas para enseñar a los niños los comportamientos que necesitan para tener éxito. Abordaremos maneras de manejar conductas desafiantes y las necesidades de salud mental de los niños. Estas sesiones ofrecen a padres y cuidadores estrategias clave que pueden ser útiles con niños de todas las edades y con diferentes necesidades. \nDurante la clase\, hablaremos sobre una variedad de enfoques positivos que apoyan la autorregulación\, la independencia\, la cooperación y las habilidades para resolver problemas en los niños. Esta clase incluye juegos de rol interactivos y estrategias prácticas. \nLos temas incluyen: \n· Estableciendo la Conexión\n· Manteniéndolo Positivo\n· El Comportamiento Tiene un Significado\n· El Poder de las Rutinas\n· Enséñame Qué Hacer\n· Responder con Propósito\n· Integrando Todo en un Plan \nLas familias recibirán un cuaderno de actividades\, una guía de rutinas familiares\, libritos para niños y materiales para reforzar las habilidades aprendidas durante la clase. \nLa clase comienza a las 9:00 a.m.\, las puertas se abren a las 8:30 a.m. para el registro y un desayuno ligero. \nSe ofrece cuidado de niños gratuito\, pero se requiere inscripción previa. \nSe proporcionará el almuerzo. \n 
URL:https://formedfamiliesforward.org/event/positive-parenting-class-in-spanish/
LOCATION:The Arc of Greater Prince William\, 13505 Hillendale Rd.\, Woodbridge\, Virginia\, 22193
CATEGORIES:Formed Families Forward event,Kinship,Training
ATTACH;FMTTYPE=image/png:https://formedfamiliesforward.org/wp-content/uploads/2025/07/positive-parenting-PW-fall-2025-image-Spanish.png
END:VEVENT
END:VCALENDAR