BEGIN:VCALENDAR
VERSION:2.0
PRODID:-//FFF - ECPv6.15.20//NONSGML v1.0//EN
CALSCALE:GREGORIAN
METHOD:PUBLISH
X-ORIGINAL-URL:https://formedfamiliesforward.org
X-WR-CALDESC:Events for FFF
REFRESH-INTERVAL;VALUE=DURATION:PT1H
X-Robots-Tag:noindex
X-PUBLISHED-TTL:PT1H
BEGIN:VTIMEZONE
TZID:America/New_York
BEGIN:DAYLIGHT
TZOFFSETFROM:-0500
TZOFFSETTO:-0400
TZNAME:EDT
DTSTART:20240310T070000
END:DAYLIGHT
BEGIN:STANDARD
TZOFFSETFROM:-0400
TZOFFSETTO:-0500
TZNAME:EST
DTSTART:20241103T060000
END:STANDARD
BEGIN:DAYLIGHT
TZOFFSETFROM:-0500
TZOFFSETTO:-0400
TZNAME:EDT
DTSTART:20250309T070000
END:DAYLIGHT
BEGIN:STANDARD
TZOFFSETFROM:-0400
TZOFFSETTO:-0500
TZNAME:EST
DTSTART:20251102T060000
END:STANDARD
BEGIN:DAYLIGHT
TZOFFSETFROM:-0500
TZOFFSETTO:-0400
TZNAME:EDT
DTSTART:20260308T070000
END:DAYLIGHT
BEGIN:STANDARD
TZOFFSETFROM:-0400
TZOFFSETTO:-0500
TZNAME:EST
DTSTART:20261101T060000
END:STANDARD
END:VTIMEZONE
BEGIN:VEVENT
DTSTART;TZID=America/New_York:20250320T181500
DTEND;TZID=America/New_York:20250320T200000
DTSTAMP:20260425T090223
CREATED:20241017T002007Z
LAST-MODIFIED:20250525T003016Z
UID:10002435-1742494500-1742500800@formedfamiliesforward.org
SUMMARY:Fairfax Kinship IN PERSON Support Group*
DESCRIPTION:Are you raising a child for a relative or close family friend? Kinship caregivers are invited to our Fairfax Kinship Support Group! \nThe Fairfax Kinship Support Group provides a safe\, nurturing\, and healthy environment for caregivers to share their experiences\, concerns\, and frustrations with their peers. The group offers a network to share resources and information among the group members\, reducing feelings of isolation\, and celebrating family successes in maintaining permanency for and the ongoing commitment to building strong families. Peer support can be critical to caregiver self-care and can contribute to healthy family functioning and improved outcomes for children and youth. \nThe group is FREE of charge. Meetings are facilitated by professional mental health clinicians who have deep experience with kinship families. \nThe group meets twice a month\, in two formats virtual and in-person. The IN PERSON group meets at different Community Center locations around the County. Registrants will receive email reminders of location. \nNOTE: Fairfax Kinship Support Group will NOT meet in JULY. \n  \nOnce registered\, you will get reminders for BOTH group formats. Kinship caregivers may participate in both virtual AND in-person meetings or choose the format that works best. \nSee the registration site for all the meeting dates and formats. \nFLYER HERE.
URL:https://formedfamiliesforward.org/event/fairfax-kinship-in-person-support-group-2-2-3-2-2/2025-03-20/
CATEGORIES:Formed Families Forward event,Kinship
ATTACH;FMTTYPE=image/png:https://formedfamiliesforward.org/wp-content/uploads/2023/09/Fairfax-Kinship-Support-Group-logo.png
END:VEVENT
END:VCALENDAR