BEGIN:VCALENDAR
VERSION:2.0
PRODID:-//FFF - ECPv6.15.20//NONSGML v1.0//EN
CALSCALE:GREGORIAN
METHOD:PUBLISH
X-ORIGINAL-URL:https://formedfamiliesforward.org
X-WR-CALDESC:Events for FFF
REFRESH-INTERVAL;VALUE=DURATION:PT1H
X-Robots-Tag:noindex
X-PUBLISHED-TTL:PT1H
BEGIN:VTIMEZONE
TZID:America/New_York
BEGIN:DAYLIGHT
TZOFFSETFROM:-0500
TZOFFSETTO:-0400
TZNAME:EDT
DTSTART:20240310T070000
END:DAYLIGHT
BEGIN:STANDARD
TZOFFSETFROM:-0400
TZOFFSETTO:-0500
TZNAME:EST
DTSTART:20241103T060000
END:STANDARD
BEGIN:DAYLIGHT
TZOFFSETFROM:-0500
TZOFFSETTO:-0400
TZNAME:EDT
DTSTART:20250309T070000
END:DAYLIGHT
BEGIN:STANDARD
TZOFFSETFROM:-0400
TZOFFSETTO:-0500
TZNAME:EST
DTSTART:20251102T060000
END:STANDARD
BEGIN:DAYLIGHT
TZOFFSETFROM:-0500
TZOFFSETTO:-0400
TZNAME:EDT
DTSTART:20260308T070000
END:DAYLIGHT
BEGIN:STANDARD
TZOFFSETFROM:-0400
TZOFFSETTO:-0500
TZNAME:EST
DTSTART:20261101T060000
END:STANDARD
END:VTIMEZONE
BEGIN:VEVENT
DTSTART;TZID=America/New_York:20250304T190000
DTEND;TZID=America/New_York:20250304T200000
DTSTAMP:20260425T090147
CREATED:20250111T144854Z
LAST-MODIFIED:20250111T214954Z
UID:10002454-1741114800-1741118400@formedfamiliesforward.org
SUMMARY:What Families Need to Know About Assistive Technology
DESCRIPTION:Assistive technology is not just an iPad! Assistive technology is any technology used by individuals with disabilities who may otherwise not be able to or would not be able to perform a task as well without the technology. Assistive technology includes both the devices (communication devices\, apps\, extensions\, hardware\, software\, mobility devices) and the services provided to access and implement the devices. \nJoin us for an introduction to assistive technology\, understand its importance for your student\, find out how they can access it\, and learn about resources that can guide you through the process. \n  \nPresenter Geoffrey Weber is the Assistive Technology Coordinator for Training and Technical Assistance Center (TTAC) at George Mason University. He has been in special education for 15 years and is passionate about helping students to become more independent with the use of assistive technology. \nRegister at link below. \nFind EVENT FLYER HERE. 
URL:https://formedfamiliesforward.org/event/what-families-need-to-know-about-assistive-technology/
CATEGORIES:Formed Families Forward event,Training
ATTACH;FMTTYPE=image/png:https://formedfamiliesforward.org/wp-content/uploads/2025/01/Asst-tech-webinar-flyer-3-4-25-sm-image.png
END:VEVENT
END:VCALENDAR