BEGIN:VCALENDAR
VERSION:2.0
PRODID:-//FFF - ECPv6.15.20//NONSGML v1.0//EN
CALSCALE:GREGORIAN
METHOD:PUBLISH
X-ORIGINAL-URL:https://formedfamiliesforward.org
X-WR-CALDESC:Events for FFF
REFRESH-INTERVAL;VALUE=DURATION:PT1H
X-Robots-Tag:noindex
X-PUBLISHED-TTL:PT1H
BEGIN:VTIMEZONE
TZID:America/New_York
BEGIN:DAYLIGHT
TZOFFSETFROM:-0500
TZOFFSETTO:-0400
TZNAME:EDT
DTSTART:20240310T070000
END:DAYLIGHT
BEGIN:STANDARD
TZOFFSETFROM:-0400
TZOFFSETTO:-0500
TZNAME:EST
DTSTART:20241103T060000
END:STANDARD
BEGIN:DAYLIGHT
TZOFFSETFROM:-0500
TZOFFSETTO:-0400
TZNAME:EDT
DTSTART:20250309T070000
END:DAYLIGHT
BEGIN:STANDARD
TZOFFSETFROM:-0400
TZOFFSETTO:-0500
TZNAME:EST
DTSTART:20251102T060000
END:STANDARD
BEGIN:DAYLIGHT
TZOFFSETFROM:-0500
TZOFFSETTO:-0400
TZNAME:EDT
DTSTART:20260308T070000
END:DAYLIGHT
BEGIN:STANDARD
TZOFFSETFROM:-0400
TZOFFSETTO:-0500
TZNAME:EST
DTSTART:20261101T060000
END:STANDARD
END:VTIMEZONE
BEGIN:VEVENT
DTSTART;TZID=America/New_York:20250102T173000
DTEND;TZID=America/New_York:20250102T183000
DTSTAMP:20260420T142846
CREATED:20241203T183803Z
LAST-MODIFIED:20241220T152716Z
UID:10002443-1735839000-1735842600@formedfamiliesforward.org
SUMMARY:Fairfax Kinship Feedback to the CSB
DESCRIPTION:Fairfax  and Falls Church Kinship Caregivers\, join us! \nOn Thursday\, January 2 at 5:30 PM you are invited to meet virtually with Shweta Adyanthaya\, Senior Strategy Director at the Fairfax Falls Church Community Services Board (CSB) to share your impressions and feedback on the CSB’s strengths\, areas for improvement\, and potential external opportunities to explore. Ms. Adyanthaya will first overview the range of services and programs offered by the CSB and then facilitate a conversation\, asking participants to respond to these questions: \nNo reservation needed! \nLog in on January 2\, 2025 at https://us06web.zoom.us/j/84246211825?pwd=t0PpCCH1LPLGe97FpYgUKVDT3csZTo.1 \nFind a FLYER HERE. 
URL:https://formedfamiliesforward.org/event/fairfax-kinship-feedback-to-the-csb/
CATEGORIES:Formed Families Forward event,Kinship
ATTACH;FMTTYPE=image/png:https://formedfamiliesforward.org/wp-content/uploads/2023/09/Fairfax-Kinship-Support-Group-logo.png
END:VEVENT
BEGIN:VEVENT
DTSTART;TZID=America/New_York:20250102T183000
DTEND;TZID=America/New_York:20250102T200000
DTSTAMP:20260420T142846
CREATED:20240603T145640Z
LAST-MODIFIED:20240606T152823Z
UID:10002202-1735842600-1735848000@formedfamiliesforward.org
SUMMARY:Fairfax Kinship Family Support Group VIRTUAL
DESCRIPTION:Are you raising a child for a relative or close family friend? Kinship caregivers are invited to our Fairfax Kinship Support Group! \nThe Fairfax Kinship Support Group provides a safe\, nurturing\, and healthy environment for caregivers to share their experiences\, concerns\, and frustrations with their peers. The group offers a network to share resources and information among the group members\, reducing feelings of isolation\, and celebrating family successes in maintaining permanency for and the ongoing commitment building strong families. Peer support can be critical to caregiver self-care and can contribute to healthy family functioning and improved outcomes for children and youth. \nThe group is FREE of charge. Meetings are facilitated by professional mental health clinicians who have deep experience with kinship families. \nThe group meets twice a month\, in two formats virtual and in-person. Fairfax Kinship Family Support Group will NOT meet in July. \nOnce registered\, you will get reminders for BOTH group formats. Kinship caregivers may participate in both virtual AND in-person meetings or choose the format that works best. \nFLYER HERE.
URL:https://formedfamiliesforward.org/event/fairfax-kinship-family-support-group/2025-01-02/
CATEGORIES:Formed Families Forward event,Kinship
ATTACH;FMTTYPE=image/png:https://formedfamiliesforward.org/wp-content/uploads/2023/09/Fairfax-Kinship-Support-Group-logo.png
END:VEVENT
END:VCALENDAR