BEGIN:VCALENDAR
VERSION:2.0
PRODID:-//FFF - ECPv6.15.20//NONSGML v1.0//EN
CALSCALE:GREGORIAN
METHOD:PUBLISH
X-WR-CALNAME:FFF
X-ORIGINAL-URL:https://formedfamiliesforward.org
X-WR-CALDESC:Events for FFF
REFRESH-INTERVAL;VALUE=DURATION:PT1H
X-Robots-Tag:noindex
X-PUBLISHED-TTL:PT1H
BEGIN:VTIMEZONE
TZID:America/New_York
BEGIN:DAYLIGHT
TZOFFSETFROM:-0500
TZOFFSETTO:-0400
TZNAME:EDT
DTSTART:20230312T070000
END:DAYLIGHT
BEGIN:STANDARD
TZOFFSETFROM:-0400
TZOFFSETTO:-0500
TZNAME:EST
DTSTART:20231105T060000
END:STANDARD
BEGIN:DAYLIGHT
TZOFFSETFROM:-0500
TZOFFSETTO:-0400
TZNAME:EDT
DTSTART:20240310T070000
END:DAYLIGHT
BEGIN:STANDARD
TZOFFSETFROM:-0400
TZOFFSETTO:-0500
TZNAME:EST
DTSTART:20241103T060000
END:STANDARD
BEGIN:DAYLIGHT
TZOFFSETFROM:-0500
TZOFFSETTO:-0400
TZNAME:EDT
DTSTART:20250309T070000
END:DAYLIGHT
BEGIN:STANDARD
TZOFFSETFROM:-0400
TZOFFSETTO:-0500
TZNAME:EST
DTSTART:20251102T060000
END:STANDARD
END:VTIMEZONE
BEGIN:VEVENT
DTSTART;TZID=America/New_York:20241119T183000
DTEND;TZID=America/New_York:20241119T200000
DTSTAMP:20260425T072210
CREATED:20240613T161710Z
LAST-MODIFIED:20240613T162554Z
UID:10002275-1732041000-1732046400@formedfamiliesforward.org
SUMMARY:Stronger Together Youth and Young Adult Peer Support Group - fall 2024
DESCRIPTION:Stronger Together is a psychoeducational and peer support group for teens and young adults (age 14 – 22) that will introduce tools that can be used to navigate everyday challenges. Professional clinicians facilitate the 8 weekly sessions. Skills include interpersonal effectiveness\, conflict resolution\, self-determination and self-efficacy. The group emphasizes positive peer supports as a context for strengths-based growth. A light dinner will be served each evening. Regular weekly attendance is expected. \nThe group will meet in person on the following Tuesdays from 6:30-8:00 pm: \nOct. 1\, 8\, 15\, 22\, 29\, and November 5\, 12\, 19\, 2024 \nThe group will focus on strengthening social engagement through conversation\, and activities. The group will feature a topic each week related to issues teens and young adults often face such as mental health challenges\, peer interactions\, healthy relationships and boundaries\, as well as other topics chosen by the group. The group will offer participants a chance to practice social skills\, learn from one another\, and get feedback from peers and group leaders. Group leaders will foster an environment of acceptance and members will share as much as little as they like. \nFall 2024 Stronger Together lead facilitator Karen Chaudhry\, LCSW has over 20 years of experience working with children and families. She has led many groups and provided individual therapy for children\, teens and adults. Karen works in the child welfare field and some of her expertise includes trauma\, foster care\, adoptive and kinship families. In addition\, Karen has experience working with children and teens who are on the autism spectrum or have ADHD\, depression\, and anxiety. \nDownload FLYER HERE.
URL:https://formedfamiliesforward.org/event/stronger-together-youth-and-young-adult-peer-support-group-fall-2024/2024-11-19/
LOCATION:Formed Families Forward Office\, 10304 Eaton Place\, Suite 100\, Fairfax\, VA\, 22030\, United States
CATEGORIES:Formed Families Forward event,Youth and Young Adults
ATTACH;FMTTYPE=image/png:https://formedfamiliesforward.org/wp-content/uploads/2020/10/Stronger-Together-Graphic-sm.png
END:VEVENT
END:VCALENDAR