BEGIN:VCALENDAR
VERSION:2.0
PRODID:-//FFF - ECPv6.15.20//NONSGML v1.0//EN
CALSCALE:GREGORIAN
METHOD:PUBLISH
X-ORIGINAL-URL:https://formedfamiliesforward.org
X-WR-CALDESC:Events for FFF
REFRESH-INTERVAL;VALUE=DURATION:PT1H
X-Robots-Tag:noindex
X-PUBLISHED-TTL:PT1H
BEGIN:VTIMEZONE
TZID:America/New_York
BEGIN:DAYLIGHT
TZOFFSETFROM:-0500
TZOFFSETTO:-0400
TZNAME:EDT
DTSTART:20230312T070000
END:DAYLIGHT
BEGIN:STANDARD
TZOFFSETFROM:-0400
TZOFFSETTO:-0500
TZNAME:EST
DTSTART:20231105T060000
END:STANDARD
BEGIN:DAYLIGHT
TZOFFSETFROM:-0500
TZOFFSETTO:-0400
TZNAME:EDT
DTSTART:20240310T070000
END:DAYLIGHT
BEGIN:STANDARD
TZOFFSETFROM:-0400
TZOFFSETTO:-0500
TZNAME:EST
DTSTART:20241103T060000
END:STANDARD
BEGIN:DAYLIGHT
TZOFFSETFROM:-0500
TZOFFSETTO:-0400
TZNAME:EDT
DTSTART:20250309T070000
END:DAYLIGHT
BEGIN:STANDARD
TZOFFSETFROM:-0400
TZOFFSETTO:-0500
TZNAME:EST
DTSTART:20251102T060000
END:STANDARD
END:VTIMEZONE
BEGIN:VEVENT
DTSTART;TZID=America/New_York:20240802T173000
DTEND;TZID=America/New_York:20240802T193000
DTSTAMP:20260420T071251
CREATED:20240622T015144Z
LAST-MODIFIED:20240622T015827Z
UID:10002280-1722619800-1722627000@formedfamiliesforward.org
SUMMARY:Formed Families Summer Picnic
DESCRIPTION:Hosted by Formed Families Forward\, this summer fun family event is an your opportunity to connect in person\, help others through service\, play\, dine\, relax and have fun! \nWe kick off with a brief community service activity for the whole family. Then all will enjoy a picnic dinner under the pavilion. Main dishes (pulled pork and chicken sandwiches\, and mac and cheese) and drinks will be provided; we ask families to bring a side dish or dessert to share. Following dinner\, young children enjoy a magic show while teens and young adults may choose to connect in a fun activity of their own! \nParents and caregivers will have time to talk with each other and visit our exhibitors. \nThe picnic will be held at Nottoway Park (Note: this is a different venue than in previous years). The park features restrooms\, a playground\, sport courts and walking trails. We will be at Shelter A. \nUpon registration\, additional information will be sent about the community service project. \nDownload the FLYER HERE.
URL:https://formedfamiliesforward.org/event/formed-families-summer-picnic/
LOCATION:Nottoway Park\, 9537 Courthouse Rd.\, Vienna\, Virginia\, 22181
CATEGORIES:Family,Formed Families Forward event
ATTACH;FMTTYPE=image/png:https://formedfamiliesforward.org/wp-content/uploads/2024/06/FFF-Picnic-Flyer-2024-banner-snip.png
END:VEVENT
END:VCALENDAR